BEGIN:VCALENDAR
VERSION:2.0
PRODID:-//P&#039;nai Or of West Hartford - ECPv5.16.0//NONSGML v1.0//EN
CALSCALE:GREGORIAN
METHOD:PUBLISH
X-WR-CALNAME:P&#039;nai Or of West Hartford
X-ORIGINAL-URL:https://jewishrenewalct.org
X-WR-CALDESC:Events for P&#039;nai Or of West Hartford
REFRESH-INTERVAL;VALUE=DURATION:PT1H
X-Robots-Tag:noindex
X-PUBLISHED-TTL:PT1H
BEGIN:VTIMEZONE
TZID:UTC
BEGIN:STANDARD
TZOFFSETFROM:+0000
TZOFFSETTO:+0000
TZNAME:UTC
DTSTART:20200101T000000
END:STANDARD
END:VTIMEZONE
BEGIN:VEVENT
DTSTART;TZID=UTC:20210605T100000
DTEND;TZID=UTC:20210605T123000
DTSTAMP:20260421T055202
CREATED:20210112T000221Z
LAST-MODIFIED:20210117T145049Z
UID:182-1622887200-1622896200@jewishrenewalct.org
SUMMARY:Shabbat Services 10am
DESCRIPTION:
URL:https://jewishrenewalct.org/event/shabbat-services-4/
LOCATION:Zoom\, :Zoom Address Provided after Registration by separate email.\, Email if you have any questions
END:VEVENT
BEGIN:VEVENT
DTSTART;TZID=UTC:20210501T100000
DTEND;TZID=UTC:20210501T123000
DTSTAMP:20260421T055202
CREATED:20210112T000139Z
LAST-MODIFIED:20210117T145238Z
UID:180-1619863200-1619872200@jewishrenewalct.org
SUMMARY:Shabbat Services 10am
DESCRIPTION:
URL:https://jewishrenewalct.org/event/shabbat-services-3/
LOCATION:Zoom\, :Zoom Address Provided after Registration by separate email.\, Email if you have any questions
ORGANIZER;CN="Congregation%20P%27nai%20Or":MAILTO:pnaiorct@gmail.com
END:VEVENT
BEGIN:VEVENT
DTSTART;TZID=UTC:20210403T100000
DTEND;TZID=UTC:20210403T123000
DTSTAMP:20260421T055202
CREATED:20210112T000047Z
LAST-MODIFIED:20210117T145111Z
UID:178-1617444000-1617453000@jewishrenewalct.org
SUMMARY:Shabbat Services 10am
DESCRIPTION:
URL:https://jewishrenewalct.org/event/shabbat-services-2/
LOCATION:Zoom\, :Zoom Address Provided after Registration by separate email.\, Email if you have any questions
END:VEVENT
BEGIN:VEVENT
DTSTART;TZID=UTC:20210306T100000
DTEND;TZID=UTC:20210306T123000
DTSTAMP:20260421T055202
CREATED:20210111T235842Z
LAST-MODIFIED:20210117T145123Z
UID:176-1615024800-1615033800@jewishrenewalct.org
SUMMARY:Shabbat Services 10am
DESCRIPTION:
URL:https://jewishrenewalct.org/event/shabbat-services/
LOCATION:Zoom\, :Zoom Address Provided after Registration by separate email.\, Email if you have any questions
ORGANIZER;CN="Congregation%20P%27nai%20Or":MAILTO:pnaiorct@gmail.com
END:VEVENT
BEGIN:VEVENT
DTSTART;TZID=UTC:20210225T190000
DTEND;TZID=UTC:20210225T203000
DTSTAMP:20260421T055202
CREATED:20210112T000325Z
LAST-MODIFIED:20210117T145134Z
UID:184-1614279600-1614285000@jewishrenewalct.org
SUMMARY:Purim 7pm
DESCRIPTION:
URL:https://jewishrenewalct.org/event/purim/
LOCATION:Zoom\, :Zoom Address Provided after Registration by separate email.\, Email if you have any questions
ORGANIZER;CN="Congregation%20P%27nai%20Or":MAILTO:pnaiorct@gmail.com
END:VEVENT
BEGIN:VEVENT
DTSTART;TZID=UTC:20210206T100000
DTEND;TZID=UTC:20210206T123000
DTSTAMP:20260421T055202
CREATED:20210111T235350Z
LAST-MODIFIED:20210117T145144Z
UID:174-1612605600-1612614600@jewishrenewalct.org
SUMMARY:Shabbat Service 10am
DESCRIPTION:
URL:https://jewishrenewalct.org/event/shabbat-service/
LOCATION:Zoom\, :Zoom Address Provided after Registration by separate email.\, Email if you have any questions
ORGANIZER;CN="Congregation%20P%27nai%20Or":MAILTO:pnaiorct@gmail.com
END:VEVENT
BEGIN:VEVENT
DTSTART;TZID=UTC:20210116T100000
DTEND;TZID=UTC:20210116T120000
DTSTAMP:20260421T055202
CREATED:20210111T155601Z
LAST-MODIFIED:20210111T233723Z
UID:162-1610791200-1610798400@jewishrenewalct.org
SUMMARY:Shabbat Service for Martin Luther King\, Jr. Day
DESCRIPTION:Join us for a Jewish Renewal Shabbat Service to honor the memory of Martin Luther King\, Jr. \nThe P’nai Or MLK Shabbat service will be lay led by our Affinity Group on Racial Justice. P’nai Or is a Jewish Renewal congregation and we welcome all who are interested in discovering Jewish Renewal while honoring the memory of Martin Luthor King\, Jr. (Learn about Jewish renewal here: https://jewishrenewalct.org/what-is-jewish-renewal/.) \nTopics such as civil rights\, Black Lives Matter\, and current events will be integrated into the Shabbat morning service. The Torah portion this very week focuses on the Hebrew slaves’ dealings with a powerful Pharaoh and with Moses telling old Pharaoh to “let my people go”. \nOur contemporary story is not that different. Today\, African Americans do not have equality in this country. Without equal opportunities in housing\, jobs\, and education\, the Black community is not totally free. Who and what are the Pharaohs in America and who are the slaves? \nJoin us for joyous prayer\, engage with ideas of racial justice\, and sing the songs of freedom for all. \nRegister to receive the Zoom Room address. \nEvent RegistrationPlease enable JavaScript in your browser to complete this form.Name *FirstLastEmail *Phone NumberComment or MessageMessageSubmit
URL:https://jewishrenewalct.org/event/mlk_shabbat/
LOCATION:Zoom\, :Zoom Address Provided after Registration by separate email.\, Email if you have any questions
ORGANIZER;CN="Congregation%20P%27nai%20Or":MAILTO:pnaiorct@gmail.com
END:VEVENT
BEGIN:VEVENT
DTSTART;VALUE=DATE:20200918
DTEND;VALUE=DATE:20200920
DTSTAMP:20260421T055202
CREATED:20200616T145445Z
LAST-MODIFIED:20200616T145445Z
UID:119-1600387200-1600559999@jewishrenewalct.org
SUMMARY:Rosh Hashanah 5781
DESCRIPTION:
URL:https://jewishrenewalct.org/event/rosh-hashanah-5781/
LOCATION:134 Flagg Road\, West Hartford\, CT\, 06117\, United States
END:VEVENT
END:VCALENDAR